BEGIN:VCALENDAR
VERSION:2.0
PRODID:-//Martin and Associates - ECPv6.15.12.2//NONSGML v1.0//EN
CALSCALE:GREGORIAN
METHOD:PUBLISH
X-ORIGINAL-URL:https://martinandassoc.com
X-WR-CALDESC:Events for Martin and Associates
REFRESH-INTERVAL;VALUE=DURATION:PT1H
X-Robots-Tag:noindex
X-PUBLISHED-TTL:PT1H
BEGIN:VTIMEZONE
TZID:UTC
BEGIN:STANDARD
TZOFFSETFROM:+0000
TZOFFSETTO:+0000
TZNAME:UTC
DTSTART:20210101T000000
END:STANDARD
END:VTIMEZONE
BEGIN:VEVENT
DTSTART;TZID=UTC:20221213T130000
DTEND;TZID=UTC:20221213T140000
DTSTAMP:20260423T173736
CREATED:20230125T143712Z
LAST-MODIFIED:20230125T143712Z
UID:11988-1670936400-1670940000@martinandassoc.com
SUMMARY:Acumatica Year End Closing
DESCRIPTION:The economy isn’t just uncertain\, it’s unpredictable. From inflation and tight labor markets to shifting customer behavior and rising operating costs\, today’s challenges demand more than traditional budgeting and reporting.Join BILL for a conversation on how finance leaders can build real financial resilience\, and lead with confidence through whatever comes next. In this session\, we’ll cover: What financial resilience really means in 2026Tactics for improving cash flow without increasing headcountHow automation\, AI\, and APIs help lean teams stay agilePractical steps you can take this quarter to drive stability and flexibilityWhether you’re navigating growth\, managing risk\, or doing more with less\, this session is designed to give you clear\, actionable strategies you can take back to your team. 								\n				\n					\n		\n					\n		\n				\n						\n					\n			\n						\n				\n									The New Rules of Financial Resilience: how Smart Teams Thrive Through Uncertainty with BILL.com Thursday\,  May 14th\, 20261:00 PM ET 								\n				\n					\n		\n					\n		\n				\n						\n					\n			\n						\n				\n									\n					\n						\n									Register
URL:https://martinandassoc.com/event/acumatica-year-end-closing/
CATEGORIES:Events,MWA Event
END:VEVENT
BEGIN:VEVENT
DTSTART;TZID=UTC:20221215T130000
DTEND;TZID=UTC:20221215T140000
DTSTAMP:20260423T173736
CREATED:20230125T123735Z
LAST-MODIFIED:20230125T123735Z
UID:11986-1671109200-1671112800@martinandassoc.com
SUMMARY:Sage 100 Year End Webinar
DESCRIPTION:The economy isn’t just uncertain\, it’s unpredictable. From inflation and tight labor markets to shifting customer behavior and rising operating costs\, today’s challenges demand more than traditional budgeting and reporting.Join BILL for a conversation on how finance leaders can build real financial resilience\, and lead with confidence through whatever comes next. In this session\, we’ll cover: What financial resilience really means in 2026Tactics for improving cash flow without increasing headcountHow automation\, AI\, and APIs help lean teams stay agilePractical steps you can take this quarter to drive stability and flexibilityWhether you’re navigating growth\, managing risk\, or doing more with less\, this session is designed to give you clear\, actionable strategies you can take back to your team. 								\n				\n					\n		\n					\n		\n				\n						\n					\n			\n						\n				\n									The New Rules of Financial Resilience: how Smart Teams Thrive Through Uncertainty with BILL.com Thursday\,  May 14th\, 20261:00 PM ET 								\n				\n					\n		\n					\n		\n				\n						\n					\n			\n						\n				\n									\n					\n						\n									Register
URL:https://martinandassoc.com/event/sage-100-year-end-webinar-2/
END:VEVENT
BEGIN:VEVENT
DTSTART;TZID=UTC:20221216T110000
DTEND;TZID=UTC:20221216T120000
DTSTAMP:20260423T173736
CREATED:20230125T114043Z
LAST-MODIFIED:20230125T114043Z
UID:11985-1671188400-1671192000@martinandassoc.com
SUMMARY:Microsoft Dynamics GP Year End Closing Webinar
DESCRIPTION:The economy isn’t just uncertain\, it’s unpredictable. From inflation and tight labor markets to shifting customer behavior and rising operating costs\, today’s challenges demand more than traditional budgeting and reporting.Join BILL for a conversation on how finance leaders can build real financial resilience\, and lead with confidence through whatever comes next. In this session\, we’ll cover: What financial resilience really means in 2026Tactics for improving cash flow without increasing headcountHow automation\, AI\, and APIs help lean teams stay agilePractical steps you can take this quarter to drive stability and flexibilityWhether you’re navigating growth\, managing risk\, or doing more with less\, this session is designed to give you clear\, actionable strategies you can take back to your team. 								\n				\n					\n		\n					\n		\n				\n						\n					\n			\n						\n				\n									The New Rules of Financial Resilience: how Smart Teams Thrive Through Uncertainty with BILL.com Thursday\,  May 14th\, 20261:00 PM ET 								\n				\n					\n		\n					\n		\n				\n						\n					\n			\n						\n				\n									\n					\n						\n									Register
URL:https://martinandassoc.com/event/microsoft-dynamics-gp-year-end-closing-webinar-2/
CATEGORIES:Events
END:VEVENT
END:VCALENDAR