BEGIN:VCALENDAR
VERSION:2.0
PRODID:-//Martin and Associates - ECPv6.15.12.2//NONSGML v1.0//EN
CALSCALE:GREGORIAN
METHOD:PUBLISH
X-WR-CALNAME:Martin and Associates
X-ORIGINAL-URL:https://martinandassoc.com
X-WR-CALDESC:Events for Martin and Associates
REFRESH-INTERVAL;VALUE=DURATION:PT1H
X-Robots-Tag:noindex
X-PUBLISHED-TTL:PT1H
BEGIN:VTIMEZONE
TZID:UTC
BEGIN:STANDARD
TZOFFSETFROM:+0000
TZOFFSETTO:+0000
TZNAME:UTC
DTSTART:20200101T000000
END:STANDARD
END:VTIMEZONE
BEGIN:VEVENT
DTSTART;TZID=UTC:20210819T130000
DTEND;TZID=UTC:20210819T140000
DTSTAMP:20260423T163229
CREATED:20230125T155822Z
LAST-MODIFIED:20230125T155822Z
UID:11996-1629378000-1629381600@martinandassoc.com
SUMMARY:Sage 100 now Available on Microsoft Azure
DESCRIPTION:Email is obviously essential for your business. But it can create issues if you spend too much time in your inbox\, miss opportunities because you can’t follow up fast\, or let customers down because you can’t give them the personalized service they want. Acumatica integrates with Gmail and Outlook to streamline your communications and help make these issues a thing of the past. With the Acumatica Gmail and Outlook integrations\, you can create service and sales orders\, contacts\, contact classes\, opportunities\, and leads directly from your email account. The Acumatica system instantly synchronizes this information\, ensuring that your customer data is always accurate and accessible – so you can tailor your work to each customer.   Join us Thursday\, October 17th\, at 11:00 am ET to learn more. 								\n				\n					\n		\n					\n		\n				\n						\n					\n			\n						\n				\n							\n					\n						\n				\n					\n		\n					\n		\n				\n						\n					\n			\n						\n				\n									Gmail Integration DatasheetGmail Integration VideoGmail Integration Community PostOutlook Integration 
URL:https://martinandassoc.com/event/sage-100-now-available-on-microsoft-azure/
CATEGORIES:Events,MWA Event
END:VEVENT
BEGIN:VEVENT
DTSTART;TZID=UTC:20210715T130000
DTEND;TZID=UTC:20210715T140000
DTSTAMP:20260423T163229
CREATED:20230125T161952Z
LAST-MODIFIED:20230125T161952Z
UID:11998-1626354000-1626357600@martinandassoc.com
SUMMARY:Make better business decisions with Sage Data & Analytics – Now available for Sage 100
DESCRIPTION:Email is obviously essential for your business. But it can create issues if you spend too much time in your inbox\, miss opportunities because you can’t follow up fast\, or let customers down because you can’t give them the personalized service they want. Acumatica integrates with Gmail and Outlook to streamline your communications and help make these issues a thing of the past. With the Acumatica Gmail and Outlook integrations\, you can create service and sales orders\, contacts\, contact classes\, opportunities\, and leads directly from your email account. The Acumatica system instantly synchronizes this information\, ensuring that your customer data is always accurate and accessible – so you can tailor your work to each customer.   Join us Thursday\, October 17th\, at 11:00 am ET to learn more. 								\n				\n					\n		\n					\n		\n				\n						\n					\n			\n						\n				\n							\n					\n						\n				\n					\n		\n					\n		\n				\n						\n					\n			\n						\n				\n									Gmail Integration DatasheetGmail Integration VideoGmail Integration Community PostOutlook Integration 
URL:https://martinandassoc.com/event/make-better-business-decisions-with-sage-data-analytics-now-available-for-sage-100/
END:VEVENT
BEGIN:VEVENT
DTSTART;TZID=UTC:20210617T130000
DTEND;TZID=UTC:20210617T140000
DTSTAMP:20260423T163229
CREATED:20230125T163722Z
LAST-MODIFIED:20230125T163722Z
UID:11999-1623934800-1623938400@martinandassoc.com
SUMMARY:What’s New in Sage 100 v.2021
DESCRIPTION:Email is obviously essential for your business. But it can create issues if you spend too much time in your inbox\, miss opportunities because you can’t follow up fast\, or let customers down because you can’t give them the personalized service they want. Acumatica integrates with Gmail and Outlook to streamline your communications and help make these issues a thing of the past. With the Acumatica Gmail and Outlook integrations\, you can create service and sales orders\, contacts\, contact classes\, opportunities\, and leads directly from your email account. The Acumatica system instantly synchronizes this information\, ensuring that your customer data is always accurate and accessible – so you can tailor your work to each customer.   Join us Thursday\, October 17th\, at 11:00 am ET to learn more. 								\n				\n					\n		\n					\n		\n				\n						\n					\n			\n						\n				\n							\n					\n						\n				\n					\n		\n					\n		\n				\n						\n					\n			\n						\n				\n									Gmail Integration DatasheetGmail Integration VideoGmail Integration Community PostOutlook Integration 
URL:https://martinandassoc.com/event/whats-new-in-sage-100-v-2021/
CATEGORIES:Events,MWA Event
END:VEVENT
BEGIN:VEVENT
DTSTART;TZID=UTC:20210527T130000
DTEND;TZID=UTC:20210527T140000
DTSTAMP:20260423T163229
CREATED:20230125T165103Z
LAST-MODIFIED:20230125T165103Z
UID:12002-1622120400-1622124000@martinandassoc.com
SUMMARY:Learn more about Sage 100 to help your clients grow to the next level
DESCRIPTION:Email is obviously essential for your business. But it can create issues if you spend too much time in your inbox\, miss opportunities because you can’t follow up fast\, or let customers down because you can’t give them the personalized service they want. Acumatica integrates with Gmail and Outlook to streamline your communications and help make these issues a thing of the past. With the Acumatica Gmail and Outlook integrations\, you can create service and sales orders\, contacts\, contact classes\, opportunities\, and leads directly from your email account. The Acumatica system instantly synchronizes this information\, ensuring that your customer data is always accurate and accessible – so you can tailor your work to each customer.   Join us Thursday\, October 17th\, at 11:00 am ET to learn more. 								\n				\n					\n		\n					\n		\n				\n						\n					\n			\n						\n				\n							\n					\n						\n				\n					\n		\n					\n		\n				\n						\n					\n			\n						\n				\n									Gmail Integration DatasheetGmail Integration VideoGmail Integration Community PostOutlook Integration 
URL:https://martinandassoc.com/event/learn-more-about-sage-100-to-help-your-clients-grow-to-the-next-level/
CATEGORIES:Events,MWA Event
END:VEVENT
BEGIN:VEVENT
DTSTART;TZID=UTC:20210520T130000
DTEND;TZID=UTC:20210520T140000
DTSTAMP:20260423T163229
CREATED:20230125T164746Z
LAST-MODIFIED:20230125T164746Z
UID:12001-1621515600-1621519200@martinandassoc.com
SUMMARY:Learn more about Acumatica: the true cloud ERP
DESCRIPTION:Email is obviously essential for your business. But it can create issues if you spend too much time in your inbox\, miss opportunities because you can’t follow up fast\, or let customers down because you can’t give them the personalized service they want. Acumatica integrates with Gmail and Outlook to streamline your communications and help make these issues a thing of the past. With the Acumatica Gmail and Outlook integrations\, you can create service and sales orders\, contacts\, contact classes\, opportunities\, and leads directly from your email account. The Acumatica system instantly synchronizes this information\, ensuring that your customer data is always accurate and accessible – so you can tailor your work to each customer.   Join us Thursday\, October 17th\, at 11:00 am ET to learn more. 								\n				\n					\n		\n					\n		\n				\n						\n					\n			\n						\n				\n							\n					\n						\n				\n					\n		\n					\n		\n				\n						\n					\n			\n						\n				\n									Gmail Integration DatasheetGmail Integration VideoGmail Integration Community PostOutlook Integration 
URL:https://martinandassoc.com/event/learn-more-about-acumatica-the-true-cloud-erp/
CATEGORIES:Events,MWA Event
END:VEVENT
BEGIN:VEVENT
DTSTART;TZID=UTC:20210218T130000
DTEND;TZID=UTC:20210218T133000
DTSTAMP:20260423T163229
CREATED:20230125T165410Z
LAST-MODIFIED:20230125T165410Z
UID:12003-1613653200-1613655000@martinandassoc.com
SUMMARY:Avalara: Sales Tax Nexus 101
DESCRIPTION:Email is obviously essential for your business. But it can create issues if you spend too much time in your inbox\, miss opportunities because you can’t follow up fast\, or let customers down because you can’t give them the personalized service they want. Acumatica integrates with Gmail and Outlook to streamline your communications and help make these issues a thing of the past. With the Acumatica Gmail and Outlook integrations\, you can create service and sales orders\, contacts\, contact classes\, opportunities\, and leads directly from your email account. The Acumatica system instantly synchronizes this information\, ensuring that your customer data is always accurate and accessible – so you can tailor your work to each customer.   Join us Thursday\, October 17th\, at 11:00 am ET to learn more. 								\n				\n					\n		\n					\n		\n				\n						\n					\n			\n						\n				\n							\n					\n						\n				\n					\n		\n					\n		\n				\n						\n					\n			\n						\n				\n									Gmail Integration DatasheetGmail Integration VideoGmail Integration Community PostOutlook Integration 
URL:https://martinandassoc.com/event/avalara-sales-tax-nexus-101/
CATEGORIES:Events,MWA Event
END:VEVENT
END:VCALENDAR