BEGIN:VCALENDAR
VERSION:2.0
PRODID:-//Martin and Associates - ECPv6.15.12.2//NONSGML v1.0//EN
CALSCALE:GREGORIAN
METHOD:PUBLISH
X-ORIGINAL-URL:https://martinandassoc.com
X-WR-CALDESC:Events for Martin and Associates
REFRESH-INTERVAL;VALUE=DURATION:PT1H
X-Robots-Tag:noindex
X-PUBLISHED-TTL:PT1H
BEGIN:VTIMEZONE
TZID:America/New_York
BEGIN:DAYLIGHT
TZOFFSETFROM:-0500
TZOFFSETTO:-0400
TZNAME:EDT
DTSTART:20250309T070000
END:DAYLIGHT
BEGIN:STANDARD
TZOFFSETFROM:-0400
TZOFFSETTO:-0500
TZNAME:EST
DTSTART:20251102T060000
END:STANDARD
BEGIN:DAYLIGHT
TZOFFSETFROM:-0500
TZOFFSETTO:-0400
TZNAME:EDT
DTSTART:20260308T070000
END:DAYLIGHT
BEGIN:STANDARD
TZOFFSETFROM:-0400
TZOFFSETTO:-0500
TZNAME:EST
DTSTART:20261101T060000
END:STANDARD
BEGIN:DAYLIGHT
TZOFFSETFROM:-0500
TZOFFSETTO:-0400
TZNAME:EDT
DTSTART:20270314T070000
END:DAYLIGHT
BEGIN:STANDARD
TZOFFSETFROM:-0400
TZOFFSETTO:-0500
TZNAME:EST
DTSTART:20271107T060000
END:STANDARD
END:VTIMEZONE
BEGIN:VEVENT
DTSTART;TZID=America/New_York:20260610T120000
DTEND;TZID=America/New_York:20260610T123000
DTSTAMP:20260424T154011
CREATED:20260205T213133Z
LAST-MODIFIED:20260205T213319Z
UID:12259-1781092800-1781094600@martinandassoc.com
SUMMARY:Acumatica Insights - Import Scenarios - AR Invoices
DESCRIPTION:Say goodbye to common obstacles\, like high processing costs\, payment delays\, and fraud risk. With Acumatica Accounts Payable software\, you can easily: Track money owed\, available discounts\, due dates\, and cash requirements on one unified system.Optimize payments for vendor discounts and avoid late charges by aligning payments with cash flows.Streamline invoice approval and payment with a simple\, intuitive workflow.Automate AP with artificial intelligence for faster processing and fraud prevention.Validate and authenticate suppliers before making payments through third-party services.Access your reports anytime\, anywhere\, from any device using a web browser or mobile app.								\n				\n					\n		\n					\n		\n				\n						\n					\n			\n						\n				\n									Acumatica AP also integrates with other Acumatica modules\, such as General Ledger\, Cash Management\, and Purchase Order Management\, providing seamless\, comprehensive solution for your business.  Join us on Thursday\, April 3rd to learn how it can benefit you.
URL:https://martinandassoc.com/event/acumatica-insights-import-scenarios-ar-invoices/
CATEGORIES:Acumatica Insights
END:VEVENT
END:VCALENDAR