BEGIN:VCALENDAR
VERSION:2.0
PRODID:-//Martin and Associates - ECPv6.15.12.2//NONSGML v1.0//EN
CALSCALE:GREGORIAN
METHOD:PUBLISH
X-ORIGINAL-URL:https://martinandassoc.com
X-WR-CALDESC:Events for Martin and Associates
REFRESH-INTERVAL;VALUE=DURATION:PT1H
X-Robots-Tag:noindex
X-PUBLISHED-TTL:PT1H
BEGIN:VTIMEZONE
TZID:America/New_York
BEGIN:DAYLIGHT
TZOFFSETFROM:-0500
TZOFFSETTO:-0400
TZNAME:EDT
DTSTART:20240310T070000
END:DAYLIGHT
BEGIN:STANDARD
TZOFFSETFROM:-0400
TZOFFSETTO:-0500
TZNAME:EST
DTSTART:20241103T060000
END:STANDARD
BEGIN:DAYLIGHT
TZOFFSETFROM:-0500
TZOFFSETTO:-0400
TZNAME:EDT
DTSTART:20250309T070000
END:DAYLIGHT
BEGIN:STANDARD
TZOFFSETFROM:-0400
TZOFFSETTO:-0500
TZNAME:EST
DTSTART:20251102T060000
END:STANDARD
BEGIN:DAYLIGHT
TZOFFSETFROM:-0500
TZOFFSETTO:-0400
TZNAME:EDT
DTSTART:20260308T070000
END:DAYLIGHT
BEGIN:STANDARD
TZOFFSETFROM:-0400
TZOFFSETTO:-0500
TZNAME:EST
DTSTART:20261101T060000
END:STANDARD
END:VTIMEZONE
BEGIN:VEVENT
DTSTART;TZID=America/New_York:20250716T120000
DTEND;TZID=America/New_York:20250716T123000
DTSTAMP:20260421T130825
CREATED:20250507T204657Z
LAST-MODIFIED:20250507T204657Z
UID:12041-1752667200-1752669000@martinandassoc.com
SUMMARY:Acumatica Insights - Creating and Using Filters
DESCRIPTION:In this webinar series\, Acumatica Insights\, we will be covering tips for users\, as well as\, more technical topics. In this session\, we will be covering how to edit existing dashboards. 								\n				\n					\n		\n					\n		\n				\n						\n					\n			\n						\n				\n									Edit Existing Dashboards in AcumaticaWednesday\,  October 29th\, 202512:00 PM ET 								\n				\n				\n				\n									\n					\n						\n									Register
URL:https://martinandassoc.com/event/acumatica-insights-creating-and-using-filters/
CATEGORIES:Acumatica Insights
END:VEVENT
BEGIN:VEVENT
DTSTART;TZID=America/New_York:20250625T120000
DTEND;TZID=America/New_York:20250625T123000
DTSTAMP:20260421T130825
CREATED:20250507T202934Z
LAST-MODIFIED:20250507T202934Z
UID:12040-1750852800-1750854600@martinandassoc.com
SUMMARY:Acumatica Insights – General Inquiry - Modifying Existing *PL Inquiries
DESCRIPTION:In this webinar series\, Acumatica Insights\, we will be covering tips for users\, as well as\, more technical topics. In this session\, we will be covering how to edit existing dashboards. 								\n				\n					\n		\n					\n		\n				\n						\n					\n			\n						\n				\n									Edit Existing Dashboards in AcumaticaWednesday\,  October 29th\, 202512:00 PM ET 								\n				\n				\n				\n									\n					\n						\n									Register
URL:https://martinandassoc.com/event/acumatica-insights-general-inquiry-modifying-existing-pl-inquiries/
CATEGORIES:Acumatica Insights
END:VEVENT
BEGIN:VEVENT
DTSTART;TZID=America/New_York:20250604T120000
DTEND;TZID=America/New_York:20250604T123000
DTSTAMP:20260421T130825
CREATED:20250430T211257Z
LAST-MODIFIED:20250430T211257Z
UID:12038-1749038400-1749040200@martinandassoc.com
SUMMARY:Acumatica Insights - Resources and General Usability
DESCRIPTION:In this webinar series\, Acumatica Insights\, we will be covering tips for users\, as well as\, more technical topics. In this session\, we will be covering how to edit existing dashboards. 								\n				\n					\n		\n					\n		\n				\n						\n					\n			\n						\n				\n									Edit Existing Dashboards in AcumaticaWednesday\,  October 29th\, 202512:00 PM ET 								\n				\n				\n				\n									\n					\n						\n									Register
URL:https://martinandassoc.com/event/acumatica-insights-resources-and-general-usability/
CATEGORIES:Acumatica Insights
END:VEVENT
END:VCALENDAR