BEGIN:VCALENDAR
VERSION:2.0
PRODID:-//Martin and Associates - ECPv6.15.12.2//NONSGML v1.0//EN
CALSCALE:GREGORIAN
METHOD:PUBLISH
X-ORIGINAL-URL:https://martinandassoc.com
X-WR-CALDESC:Events for Martin and Associates
REFRESH-INTERVAL;VALUE=DURATION:PT1H
X-Robots-Tag:noindex
X-PUBLISHED-TTL:PT1H
BEGIN:VTIMEZONE
TZID:America/New_York
BEGIN:DAYLIGHT
TZOFFSETFROM:-0500
TZOFFSETTO:-0400
TZNAME:EDT
DTSTART:20240310T070000
END:DAYLIGHT
BEGIN:STANDARD
TZOFFSETFROM:-0400
TZOFFSETTO:-0500
TZNAME:EST
DTSTART:20241103T060000
END:STANDARD
BEGIN:DAYLIGHT
TZOFFSETFROM:-0500
TZOFFSETTO:-0400
TZNAME:EDT
DTSTART:20250309T070000
END:DAYLIGHT
BEGIN:STANDARD
TZOFFSETFROM:-0400
TZOFFSETTO:-0500
TZNAME:EST
DTSTART:20251102T060000
END:STANDARD
BEGIN:DAYLIGHT
TZOFFSETFROM:-0500
TZOFFSETTO:-0400
TZNAME:EDT
DTSTART:20260308T070000
END:DAYLIGHT
BEGIN:STANDARD
TZOFFSETFROM:-0400
TZOFFSETTO:-0500
TZNAME:EST
DTSTART:20261101T060000
END:STANDARD
BEGIN:DAYLIGHT
TZOFFSETFROM:-0500
TZOFFSETTO:-0400
TZNAME:EDT
DTSTART:20270314T070000
END:DAYLIGHT
BEGIN:STANDARD
TZOFFSETFROM:-0400
TZOFFSETTO:-0500
TZNAME:EST
DTSTART:20271107T060000
END:STANDARD
END:VTIMEZONE
BEGIN:VEVENT
DTSTART;TZID=America/New_York:20260408T120000
DTEND;TZID=America/New_York:20260408T123000
DTSTAMP:20260421T113853
CREATED:20260205T211025Z
LAST-MODIFIED:20260205T212815Z
UID:12243-1775649600-1775651400@martinandassoc.com
SUMMARY:Acumatica Insights - Basic Inventory Replenishment Part 1
DESCRIPTION:In this webinar series\, Acumatica Insights\, we will be covering tips for users\, as well as\, more technical topics. In this session\, we will be covering how to import scenarios for AR Invoices. 								\n				\n					\n		\n					\n		\n				\n						\n					\n			\n						\n				\n									Import Scenarios – AR InvoicesWednesday\,  June 10th\, 202612:00 PM ET 								\n				\n					\n		\n					\n		\n				\n						\n					\n			\n						\n				\n									\n					\n						\n									Register
URL:https://martinandassoc.com/event/acumatica-insights-basic-inventory-replenishment/
CATEGORIES:Acumatica Insights
END:VEVENT
BEGIN:VEVENT
DTSTART;TZID=America/New_York:20260318T120000
DTEND;TZID=America/New_York:20260318T123000
DTSTAMP:20260421T113853
CREATED:20260205T210410Z
LAST-MODIFIED:20260205T210637Z
UID:12239-1773835200-1773837000@martinandassoc.com
SUMMARY:Acumatica Insights - User Security Basics
DESCRIPTION:In this webinar series\, Acumatica Insights\, we will be covering tips for users\, as well as\, more technical topics. In this session\, we will be covering how to import scenarios for AR Invoices. 								\n				\n					\n		\n					\n		\n				\n						\n					\n			\n						\n				\n									Import Scenarios – AR InvoicesWednesday\,  June 10th\, 202612:00 PM ET 								\n				\n					\n		\n					\n		\n				\n						\n					\n			\n						\n				\n									\n					\n						\n									Register
URL:https://martinandassoc.com/event/acumatica-insights-user-security-basics/
CATEGORIES:Acumatica Insights
END:VEVENT
BEGIN:VEVENT
DTSTART;TZID=America/New_York:20260225T120000
DTEND;TZID=America/New_York:20260225T123000
DTSTAMP:20260421T113853
CREATED:20251013T214451Z
LAST-MODIFIED:20251013T214654Z
UID:12113-1772020800-1772022600@martinandassoc.com
SUMMARY:Acumatica Insights - Importing AP Bills
DESCRIPTION:In this webinar series\, Acumatica Insights\, we will be covering tips for users\, as well as\, more technical topics. In this session\, we will be covering how to import scenarios for AR Invoices. 								\n				\n					\n		\n					\n		\n				\n						\n					\n			\n						\n				\n									Import Scenarios – AR InvoicesWednesday\,  June 10th\, 202612:00 PM ET 								\n				\n					\n		\n					\n		\n				\n						\n					\n			\n						\n				\n									\n					\n						\n									Register
URL:https://martinandassoc.com/event/acumatica-insights-importing-ap-bills/
CATEGORIES:Acumatica Insights,Events,MWA Event
END:VEVENT
BEGIN:VEVENT
DTSTART;TZID=America/New_York:20260204T120000
DTEND;TZID=America/New_York:20260204T123000
DTSTAMP:20260421T113853
CREATED:20251013T212155Z
LAST-MODIFIED:20251013T212423Z
UID:12109-1770206400-1770208200@martinandassoc.com
SUMMARY:Acumatica Insights - Emailing AR Invoices
DESCRIPTION:In this webinar series\, Acumatica Insights\, we will be covering tips for users\, as well as\, more technical topics. In this session\, we will be covering how to import scenarios for AR Invoices. 								\n				\n					\n		\n					\n		\n				\n						\n					\n			\n						\n				\n									Import Scenarios – AR InvoicesWednesday\,  June 10th\, 202612:00 PM ET 								\n				\n					\n		\n					\n		\n				\n						\n					\n			\n						\n				\n									\n					\n						\n									Register
URL:https://martinandassoc.com/event/acumatica-insights-emailing-ar-invoices/
CATEGORIES:Acumatica Insights,Events,MWA Event
END:VEVENT
BEGIN:VEVENT
DTSTART;TZID=America/New_York:20260114T120000
DTEND;TZID=America/New_York:20260114T123000
DTSTAMP:20260421T113853
CREATED:20251013T211521Z
LAST-MODIFIED:20251013T211906Z
UID:12104-1768392000-1768393800@martinandassoc.com
SUMMARY:Acumatica Insights - Adding Side Panels to a GI
DESCRIPTION:In this webinar series\, Acumatica Insights\, we will be covering tips for users\, as well as\, more technical topics. In this session\, we will be covering how to import scenarios for AR Invoices. 								\n				\n					\n		\n					\n		\n				\n						\n					\n			\n						\n				\n									Import Scenarios – AR InvoicesWednesday\,  June 10th\, 202612:00 PM ET 								\n				\n					\n		\n					\n		\n				\n						\n					\n			\n						\n				\n									\n					\n						\n									Register
URL:https://martinandassoc.com/event/acumatica-insights-adding-side-panels-to-a-gi/
CATEGORIES:Acumatica Insights,Events,MWA Event
END:VEVENT
BEGIN:VEVENT
DTSTART;TZID=America/New_York:20251210T120000
DTEND;TZID=America/New_York:20251210T120000
DTSTAMP:20260421T113853
CREATED:20251013T210920Z
LAST-MODIFIED:20251013T211300Z
UID:12100-1765368000-1765368000@martinandassoc.com
SUMMARY:Acumatica Insights - 1099 Fun
DESCRIPTION:In this webinar series\, Acumatica Insights\, we will be covering tips for users\, as well as\, more technical topics. In this session\, we will be covering how to import scenarios for AR Invoices. 								\n				\n					\n		\n					\n		\n				\n						\n					\n			\n						\n				\n									Import Scenarios – AR InvoicesWednesday\,  June 10th\, 202612:00 PM ET 								\n				\n					\n		\n					\n		\n				\n						\n					\n			\n						\n				\n									\n					\n						\n									Register
URL:https://martinandassoc.com/event/acumatica-insights-1099-fun/
CATEGORIES:Acumatica Insights,Events,MWA Event
END:VEVENT
BEGIN:VEVENT
DTSTART;TZID=America/New_York:20251119T120000
DTEND;TZID=America/New_York:20251119T123000
DTSTAMP:20260421T113853
CREATED:20250806T163323Z
LAST-MODIFIED:20250806T163323Z
UID:12051-1763553600-1763555400@martinandassoc.com
SUMMARY:Acumatica Insights - Using Side Panels
DESCRIPTION:In this webinar series\, Acumatica Insights\, we will be covering tips for users\, as well as\, more technical topics. In this session\, we will be covering how to import scenarios for AR Invoices. 								\n				\n					\n		\n					\n		\n				\n						\n					\n			\n						\n				\n									Import Scenarios – AR InvoicesWednesday\,  June 10th\, 202612:00 PM ET 								\n				\n					\n		\n					\n		\n				\n						\n					\n			\n						\n				\n									\n					\n						\n									Register
URL:https://martinandassoc.com/event/acumatica-insights-using-side-panels/
CATEGORIES:Acumatica Insights
END:VEVENT
BEGIN:VEVENT
DTSTART;TZID=America/New_York:20251029T120000
DTEND;TZID=America/New_York:20251029T123000
DTSTAMP:20260421T113853
CREATED:20250806T161649Z
LAST-MODIFIED:20250806T161649Z
UID:12050-1761739200-1761741000@martinandassoc.com
SUMMARY:Acumatica Insights - Edit Existing Dashboards
DESCRIPTION:In this webinar series\, Acumatica Insights\, we will be covering tips for users\, as well as\, more technical topics. In this session\, we will be covering how to import scenarios for AR Invoices. 								\n				\n					\n		\n					\n		\n				\n						\n					\n			\n						\n				\n									Import Scenarios – AR InvoicesWednesday\,  June 10th\, 202612:00 PM ET 								\n				\n					\n		\n					\n		\n				\n						\n					\n			\n						\n				\n									\n					\n						\n									Register
URL:https://martinandassoc.com/event/acumatica-insights-edit-existing-dashboards/
CATEGORIES:Acumatica Insights
END:VEVENT
BEGIN:VEVENT
DTSTART;TZID=America/New_York:20251008T120000
DTEND;TZID=America/New_York:20251008T123000
DTSTAMP:20260421T113853
CREATED:20250625T190801Z
LAST-MODIFIED:20250625T190801Z
UID:12046-1759924800-1759926600@martinandassoc.com
SUMMARY:Acumatica Insights - Helpful Financial Inquiries and Reports
DESCRIPTION:In this webinar series\, Acumatica Insights\, we will be covering tips for users\, as well as\, more technical topics. In this session\, we will be covering how to import scenarios for AR Invoices. 								\n				\n					\n		\n					\n		\n				\n						\n					\n			\n						\n				\n									Import Scenarios – AR InvoicesWednesday\,  June 10th\, 202612:00 PM ET 								\n				\n					\n		\n					\n		\n				\n						\n					\n			\n						\n				\n									\n					\n						\n									Register
URL:https://martinandassoc.com/event/acumatica-insights-helpful-financial-inquiries-and-reports/
CATEGORIES:Acumatica Insights
END:VEVENT
BEGIN:VEVENT
DTSTART;TZID=America/New_York:20250917T120000
DTEND;TZID=America/New_York:20250917T123000
DTSTAMP:20260421T113853
CREATED:20250625T191100Z
LAST-MODIFIED:20250625T191100Z
UID:12047-1758110400-1758112200@martinandassoc.com
SUMMARY:Acumatica Insights - Generic Inquiries Mass Actions and Updates
DESCRIPTION:In this webinar series\, Acumatica Insights\, we will be covering tips for users\, as well as\, more technical topics. In this session\, we will be covering how to import scenarios for AR Invoices. 								\n				\n					\n		\n					\n		\n				\n						\n					\n			\n						\n				\n									Import Scenarios – AR InvoicesWednesday\,  June 10th\, 202612:00 PM ET 								\n				\n					\n		\n					\n		\n				\n						\n					\n			\n						\n				\n									\n					\n						\n									Register
URL:https://martinandassoc.com/event/acumatica-insights-generic-inquiries-mass-actions-and-updates/
CATEGORIES:Acumatica Insights
END:VEVENT
BEGIN:VEVENT
DTSTART;TZID=America/New_York:20250827T120000
DTEND;TZID=America/New_York:20250827T123000
DTSTAMP:20260421T113853
CREATED:20250507T205244Z
LAST-MODIFIED:20250507T205244Z
UID:12043-1756296000-1756297800@martinandassoc.com
SUMMARY:Acumatica Insights - How to Copy and Paste
DESCRIPTION:In this webinar series\, Acumatica Insights\, we will be covering tips for users\, as well as\, more technical topics. In this session\, we will be covering how to import scenarios for AR Invoices. 								\n				\n					\n		\n					\n		\n				\n						\n					\n			\n						\n				\n									Import Scenarios – AR InvoicesWednesday\,  June 10th\, 202612:00 PM ET 								\n				\n					\n		\n					\n		\n				\n						\n					\n			\n						\n				\n									\n					\n						\n									Register
URL:https://martinandassoc.com/event/acumatica-insights-how-to-copy-and-paste/
CATEGORIES:Acumatica Insights
END:VEVENT
BEGIN:VEVENT
DTSTART;TZID=America/New_York:20250806T120000
DTEND;TZID=America/New_York:20250806T123000
DTSTAMP:20260421T113853
CREATED:20250507T204929Z
LAST-MODIFIED:20250507T204929Z
UID:12042-1754481600-1754483400@martinandassoc.com
SUMMARY:Acumatica Insights - Create your own Generic Inquiries
DESCRIPTION:In this webinar series\, Acumatica Insights\, we will be covering tips for users\, as well as\, more technical topics. In this session\, we will be covering how to import scenarios for AR Invoices. 								\n				\n					\n		\n					\n		\n				\n						\n					\n			\n						\n				\n									Import Scenarios – AR InvoicesWednesday\,  June 10th\, 202612:00 PM ET 								\n				\n					\n		\n					\n		\n				\n						\n					\n			\n						\n				\n									\n					\n						\n									Register
URL:https://martinandassoc.com/event/acumatica-insights-create-your-own-generic-inquiries/
CATEGORIES:Acumatica Insights
END:VEVENT
BEGIN:VEVENT
DTSTART;TZID=America/New_York:20250716T120000
DTEND;TZID=America/New_York:20250716T123000
DTSTAMP:20260421T113853
CREATED:20250507T204657Z
LAST-MODIFIED:20250507T204657Z
UID:12041-1752667200-1752669000@martinandassoc.com
SUMMARY:Acumatica Insights - Creating and Using Filters
DESCRIPTION:In this webinar series\, Acumatica Insights\, we will be covering tips for users\, as well as\, more technical topics. In this session\, we will be covering how to import scenarios for AR Invoices. 								\n				\n					\n		\n					\n		\n				\n						\n					\n			\n						\n				\n									Import Scenarios – AR InvoicesWednesday\,  June 10th\, 202612:00 PM ET 								\n				\n					\n		\n					\n		\n				\n						\n					\n			\n						\n				\n									\n					\n						\n									Register
URL:https://martinandassoc.com/event/acumatica-insights-creating-and-using-filters/
CATEGORIES:Acumatica Insights
END:VEVENT
BEGIN:VEVENT
DTSTART;TZID=America/New_York:20250625T120000
DTEND;TZID=America/New_York:20250625T123000
DTSTAMP:20260421T113853
CREATED:20250507T202934Z
LAST-MODIFIED:20250507T202934Z
UID:12040-1750852800-1750854600@martinandassoc.com
SUMMARY:Acumatica Insights – General Inquiry - Modifying Existing *PL Inquiries
DESCRIPTION:In this webinar series\, Acumatica Insights\, we will be covering tips for users\, as well as\, more technical topics. In this session\, we will be covering how to import scenarios for AR Invoices. 								\n				\n					\n		\n					\n		\n				\n						\n					\n			\n						\n				\n									Import Scenarios – AR InvoicesWednesday\,  June 10th\, 202612:00 PM ET 								\n				\n					\n		\n					\n		\n				\n						\n					\n			\n						\n				\n									\n					\n						\n									Register
URL:https://martinandassoc.com/event/acumatica-insights-general-inquiry-modifying-existing-pl-inquiries/
CATEGORIES:Acumatica Insights
END:VEVENT
BEGIN:VEVENT
DTSTART;TZID=America/New_York:20250604T120000
DTEND;TZID=America/New_York:20250604T123000
DTSTAMP:20260421T113853
CREATED:20250430T211257Z
LAST-MODIFIED:20250430T211257Z
UID:12038-1749038400-1749040200@martinandassoc.com
SUMMARY:Acumatica Insights - Resources and General Usability
DESCRIPTION:In this webinar series\, Acumatica Insights\, we will be covering tips for users\, as well as\, more technical topics. In this session\, we will be covering how to import scenarios for AR Invoices. 								\n				\n					\n		\n					\n		\n				\n						\n					\n			\n						\n				\n									Import Scenarios – AR InvoicesWednesday\,  June 10th\, 202612:00 PM ET 								\n				\n					\n		\n					\n		\n				\n						\n					\n			\n						\n				\n									\n					\n						\n									Register
URL:https://martinandassoc.com/event/acumatica-insights-resources-and-general-usability/
CATEGORIES:Acumatica Insights
END:VEVENT
END:VCALENDAR