BEGIN:VCALENDAR
VERSION:2.0
PRODID:-//Martin and Associates - ECPv6.15.12.2//NONSGML v1.0//EN
CALSCALE:GREGORIAN
METHOD:PUBLISH
X-ORIGINAL-URL:https://martinandassoc.com
X-WR-CALDESC:Events for Martin and Associates
REFRESH-INTERVAL;VALUE=DURATION:PT1H
X-Robots-Tag:noindex
X-PUBLISHED-TTL:PT1H
BEGIN:VTIMEZONE
TZID:America/New_York
BEGIN:DAYLIGHT
TZOFFSETFROM:-0500
TZOFFSETTO:-0400
TZNAME:EDT
DTSTART:20240310T070000
END:DAYLIGHT
BEGIN:STANDARD
TZOFFSETFROM:-0400
TZOFFSETTO:-0500
TZNAME:EST
DTSTART:20241103T060000
END:STANDARD
BEGIN:DAYLIGHT
TZOFFSETFROM:-0500
TZOFFSETTO:-0400
TZNAME:EDT
DTSTART:20250309T070000
END:DAYLIGHT
BEGIN:STANDARD
TZOFFSETFROM:-0400
TZOFFSETTO:-0500
TZNAME:EST
DTSTART:20251102T060000
END:STANDARD
BEGIN:DAYLIGHT
TZOFFSETFROM:-0500
TZOFFSETTO:-0400
TZNAME:EDT
DTSTART:20260308T070000
END:DAYLIGHT
BEGIN:STANDARD
TZOFFSETFROM:-0400
TZOFFSETTO:-0500
TZNAME:EST
DTSTART:20261101T060000
END:STANDARD
END:VTIMEZONE
BEGIN:VEVENT
DTSTART;TZID=America/New_York:20251210T120000
DTEND;TZID=America/New_York:20251210T120000
DTSTAMP:20260421T181343
CREATED:20251013T210920Z
LAST-MODIFIED:20251013T211300Z
UID:12100-1765368000-1765368000@martinandassoc.com
SUMMARY:Acumatica Insights - 1099 Fun
DESCRIPTION:In this webinar series\, Acumatica Insights\, we will be covering tips for users\, as well as\, more technical topics. In this session\, we will be covering how to import scenarios for AR Invoices. 								\n				\n					\n		\n					\n		\n				\n						\n					\n			\n						\n				\n									Import Scenarios – AR InvoicesWednesday\,  June 10th\, 202612:00 PM ET 								\n				\n					\n		\n					\n		\n				\n						\n					\n			\n						\n				\n									\n					\n						\n									Register
URL:https://martinandassoc.com/event/acumatica-insights-1099-fun/
CATEGORIES:Acumatica Insights,Events,MWA Event
END:VEVENT
END:VCALENDAR