BEGIN:VCALENDAR
VERSION:2.0
PRODID:-//Martin and Associates - ECPv6.15.12.2//NONSGML v1.0//EN
CALSCALE:GREGORIAN
METHOD:PUBLISH
X-ORIGINAL-URL:https://martinandassoc.com
X-WR-CALDESC:Events for Martin and Associates
REFRESH-INTERVAL;VALUE=DURATION:PT1H
X-Robots-Tag:noindex
X-PUBLISHED-TTL:PT1H
BEGIN:VTIMEZONE
TZID:America/New_York
BEGIN:DAYLIGHT
TZOFFSETFROM:-0500
TZOFFSETTO:-0400
TZNAME:EDT
DTSTART:20220313T070000
END:DAYLIGHT
BEGIN:STANDARD
TZOFFSETFROM:-0400
TZOFFSETTO:-0500
TZNAME:EST
DTSTART:20221106T060000
END:STANDARD
BEGIN:DAYLIGHT
TZOFFSETFROM:-0500
TZOFFSETTO:-0400
TZNAME:EDT
DTSTART:20230312T070000
END:DAYLIGHT
BEGIN:STANDARD
TZOFFSETFROM:-0400
TZOFFSETTO:-0500
TZNAME:EST
DTSTART:20231105T060000
END:STANDARD
BEGIN:DAYLIGHT
TZOFFSETFROM:-0500
TZOFFSETTO:-0400
TZNAME:EDT
DTSTART:20240310T070000
END:DAYLIGHT
BEGIN:STANDARD
TZOFFSETFROM:-0400
TZOFFSETTO:-0500
TZNAME:EST
DTSTART:20241103T060000
END:STANDARD
END:VTIMEZONE
BEGIN:VEVENT
DTSTART;TZID=America/New_York:20230719T140000
DTEND;TZID=America/New_York:20230719T143000
DTSTAMP:20260423T073239
CREATED:20230615T194148Z
LAST-MODIFIED:20230615T194148Z
UID:12012-1689775200-1689777000@martinandassoc.com
SUMMARY:Empower you finance team with Sage ERP x AP Automation
DESCRIPTION:Join us to learn more about how Sage Intacct handles Recurring Transactions. 								\n				\n					\n		\n					\n		\n				\n						\n					\n			\n						\n				\n									Sage Intacct Recurring Transactions – Journal Entries\, AP Bills\, AR InvoicesTuesday\,  May 5th\, 20262:00 PM ET 								\n				\n					\n		\n					\n		\n				\n						\n					\n			\n						\n				\n									\n					\n						\n									Register
URL:https://martinandassoc.com/event/empower-you-finance-team-with-sage-erp-x-ap-automation/
CATEGORIES:Events,MWA Event
END:VEVENT
END:VCALENDAR