BEGIN:VCALENDAR
VERSION:2.0
PRODID:-//Martin and Associates - ECPv6.15.12.2//NONSGML v1.0//EN
CALSCALE:GREGORIAN
METHOD:PUBLISH
X-WR-CALNAME:Martin and Associates
X-ORIGINAL-URL:https://martinandassoc.com
X-WR-CALDESC:Events for Martin and Associates
REFRESH-INTERVAL;VALUE=DURATION:PT1H
X-Robots-Tag:noindex
X-PUBLISHED-TTL:PT1H
BEGIN:VTIMEZONE
TZID:America/New_York
BEGIN:DAYLIGHT
TZOFFSETFROM:-0500
TZOFFSETTO:-0400
TZNAME:EDT
DTSTART:20240310T070000
END:DAYLIGHT
BEGIN:STANDARD
TZOFFSETFROM:-0400
TZOFFSETTO:-0500
TZNAME:EST
DTSTART:20241103T060000
END:STANDARD
BEGIN:DAYLIGHT
TZOFFSETFROM:-0500
TZOFFSETTO:-0400
TZNAME:EDT
DTSTART:20250309T070000
END:DAYLIGHT
BEGIN:STANDARD
TZOFFSETFROM:-0400
TZOFFSETTO:-0500
TZNAME:EST
DTSTART:20251102T060000
END:STANDARD
BEGIN:DAYLIGHT
TZOFFSETFROM:-0500
TZOFFSETTO:-0400
TZNAME:EDT
DTSTART:20260308T070000
END:DAYLIGHT
BEGIN:STANDARD
TZOFFSETFROM:-0400
TZOFFSETTO:-0500
TZNAME:EST
DTSTART:20261101T060000
END:STANDARD
END:VTIMEZONE
BEGIN:VEVENT
DTSTART;TZID=America/New_York:20250519T110000
DTEND;TZID=America/New_York:20250519T120000
DTSTAMP:20260425T123616
CREATED:20250507T201137Z
LAST-MODIFIED:20250507T201137Z
UID:12039-1747652400-1747656000@martinandassoc.com
SUMMARY:Why Companies using Sage 500 are Switching to Sage Intacct
DESCRIPTION:As technology and business needs evolve\, many organizations are outgrowing Sage 500 and turning to Sage Intacct for a more modern\, flexible financial management solution. Join us for an insightful webinar exploring why growing businesses are switching to Sage Intacct\, the leading cloud-based financial management solution. Discover how organizations are streamlining operations\, gaining real-time financial visibility\, and scaling efficiently with automated processes. Whether you’re facing limitations with outdated systems or planning for future growth\, this session will highlight the key benefits of Sage Intacct and what makes it a strategic choice for finance teams today.
URL:https://martinandassoc.com/event/why-companies-using-sage-500-are-switching-to-sage-intacct/
CATEGORIES:Events,MWA Event
END:VEVENT
END:VCALENDAR