BEGIN:VCALENDAR
VERSION:2.0
PRODID:-//Martin and Associates - ECPv6.15.12.2//NONSGML v1.0//EN
CALSCALE:GREGORIAN
METHOD:PUBLISH
X-WR-CALNAME:Martin and Associates
X-ORIGINAL-URL:https://martinandassoc.com
X-WR-CALDESC:Events for Martin and Associates
REFRESH-INTERVAL;VALUE=DURATION:PT1H
X-Robots-Tag:noindex
X-PUBLISHED-TTL:PT1H
BEGIN:VTIMEZONE
TZID:America/New_York
BEGIN:DAYLIGHT
TZOFFSETFROM:-0500
TZOFFSETTO:-0400
TZNAME:EDT
DTSTART:20240310T070000
END:DAYLIGHT
BEGIN:STANDARD
TZOFFSETFROM:-0400
TZOFFSETTO:-0500
TZNAME:EST
DTSTART:20241103T060000
END:STANDARD
BEGIN:DAYLIGHT
TZOFFSETFROM:-0500
TZOFFSETTO:-0400
TZNAME:EDT
DTSTART:20250309T070000
END:DAYLIGHT
BEGIN:STANDARD
TZOFFSETFROM:-0400
TZOFFSETTO:-0500
TZNAME:EST
DTSTART:20251102T060000
END:STANDARD
BEGIN:DAYLIGHT
TZOFFSETFROM:-0500
TZOFFSETTO:-0400
TZNAME:EDT
DTSTART:20260308T070000
END:DAYLIGHT
BEGIN:STANDARD
TZOFFSETFROM:-0400
TZOFFSETTO:-0500
TZNAME:EST
DTSTART:20261101T060000
END:STANDARD
END:VTIMEZONE
BEGIN:VEVENT
DTSTART;TZID=America/New_York:20250522T130000
DTEND;TZID=America/New_York:20250522T140000
DTSTAMP:20260425T141229
CREATED:20250507T211323Z
LAST-MODIFIED:20250507T211323Z
UID:12044-1747918800-1747922400@martinandassoc.com
SUMMARY:Why Companies using Sage 100 are Switching to Sage Intacct
DESCRIPTION:As the demands on finance teams evolve\, many Sage 100 users are re-evaluating their systems and discovering that Sage Intacct offers the flexibility\, automation\, and real-time insights they need to thrive in a fast-changing business landscape. Join us for this informative webinar as we explore why organizations are making the switch from Sage 100 to Sage Intacct. You’ll hear how Intacct’s cloud-native architecture and robust financial management capabilities are helping businesses streamline processes\, improve visibility\, and scale with confidence. 								\n				\n				\n				\n							\n					\n						\n				\n					\n		\n					\n		\n				\n						\n					\n			\n						\n				\n									PowerPoint Slides
URL:https://martinandassoc.com/event/why-companies-using-sage-100-are-switching-to-sage-intacct/
CATEGORIES:Events,MWA Event
END:VEVENT
END:VCALENDAR