BEGIN:VCALENDAR
VERSION:2.0
PRODID:-//Martin and Associates - ECPv6.15.12.2//NONSGML v1.0//EN
CALSCALE:GREGORIAN
METHOD:PUBLISH
X-WR-CALNAME:Martin and Associates
X-ORIGINAL-URL:https://martinandassoc.com
X-WR-CALDESC:Events for Martin and Associates
REFRESH-INTERVAL;VALUE=DURATION:PT1H
X-Robots-Tag:noindex
X-PUBLISHED-TTL:PT1H
BEGIN:VTIMEZONE
TZID:America/New_York
BEGIN:DAYLIGHT
TZOFFSETFROM:-0500
TZOFFSETTO:-0400
TZNAME:EDT
DTSTART:20250309T070000
END:DAYLIGHT
BEGIN:STANDARD
TZOFFSETFROM:-0400
TZOFFSETTO:-0500
TZNAME:EST
DTSTART:20251102T060000
END:STANDARD
BEGIN:DAYLIGHT
TZOFFSETFROM:-0500
TZOFFSETTO:-0400
TZNAME:EDT
DTSTART:20260308T070000
END:DAYLIGHT
BEGIN:STANDARD
TZOFFSETFROM:-0400
TZOFFSETTO:-0500
TZNAME:EST
DTSTART:20261101T060000
END:STANDARD
BEGIN:DAYLIGHT
TZOFFSETFROM:-0500
TZOFFSETTO:-0400
TZNAME:EDT
DTSTART:20270314T070000
END:DAYLIGHT
BEGIN:STANDARD
TZOFFSETFROM:-0400
TZOFFSETTO:-0500
TZNAME:EST
DTSTART:20271107T060000
END:STANDARD
END:VTIMEZONE
BEGIN:VEVENT
DTSTART;TZID=America/New_York:20260514T130000
DTEND;TZID=America/New_York:20260514T140000
DTSTAMP:20260423T190948
CREATED:20260423T193818Z
LAST-MODIFIED:20260423T194215Z
UID:12384-1778763600-1778767200@martinandassoc.com
SUMMARY:The New Rules of Financial Resilience: How Smart Teams Thrive Through Uncertainty
DESCRIPTION:The economy isn’t just uncertain\, it’s unpredictable. From inflation and tight labor markets to shifting customer behavior and rising operating costs\, today’s challenges demand more than traditional budgeting and reporting.Join BILL for a conversation on how finance leaders can build real financial resilience\, and lead with confidence through whatever comes next. In this session\, we’ll cover: What financial resilience really means in 2026Tactics for improving cash flow without increasing headcountHow automation\, AI\, and APIs help lean teams stay agilePractical steps you can take this quarter to drive stability and flexibilityWhether you’re navigating growth\, managing risk\, or doing more with less\, this session is designed to give you clear\, actionable strategies you can take back to your team. 								\n				\n					\n		\n					\n		\n				\n						\n					\n			\n						\n				\n									The New Rules of Financial Resilience: how Smart Teams Thrive Through Uncertainty with BILL.com Thursday\,  May 14th\, 20261:00 PM ET 								\n				\n					\n		\n					\n		\n				\n						\n					\n			\n						\n				\n									\n					\n						\n									Register
URL:https://martinandassoc.com/event/the-new-rules-of-financial-resilience-how-smart-teams-thrive-through-uncertainty/
CATEGORIES:Events
END:VEVENT
END:VCALENDAR