BEGIN:VCALENDAR
VERSION:2.0
PRODID:-//Martin and Associates - ECPv6.15.12.2//NONSGML v1.0//EN
CALSCALE:GREGORIAN
METHOD:PUBLISH
X-WR-CALNAME:Martin and Associates
X-ORIGINAL-URL:https://martinandassoc.com
X-WR-CALDESC:Events for Martin and Associates
REFRESH-INTERVAL;VALUE=DURATION:PT1H
X-Robots-Tag:noindex
X-PUBLISHED-TTL:PT1H
BEGIN:VTIMEZONE
TZID:America/Halifax
BEGIN:DAYLIGHT
TZOFFSETFROM:-0400
TZOFFSETTO:-0300
TZNAME:ADT
DTSTART:20230312T060000
END:DAYLIGHT
BEGIN:STANDARD
TZOFFSETFROM:-0300
TZOFFSETTO:-0400
TZNAME:AST
DTSTART:20231105T050000
END:STANDARD
BEGIN:DAYLIGHT
TZOFFSETFROM:-0400
TZOFFSETTO:-0300
TZNAME:ADT
DTSTART:20240310T060000
END:DAYLIGHT
BEGIN:STANDARD
TZOFFSETFROM:-0300
TZOFFSETTO:-0400
TZNAME:AST
DTSTART:20241103T050000
END:STANDARD
BEGIN:DAYLIGHT
TZOFFSETFROM:-0400
TZOFFSETTO:-0300
TZNAME:ADT
DTSTART:20250309T060000
END:DAYLIGHT
BEGIN:STANDARD
TZOFFSETFROM:-0300
TZOFFSETTO:-0400
TZNAME:AST
DTSTART:20251102T050000
END:STANDARD
END:VTIMEZONE
BEGIN:VEVENT
DTSTART;TZID=America/Halifax:20241114T130000
DTEND;TZID=America/Halifax:20241114T140000
DTSTAMP:20260421T043329
CREATED:20241107T013758Z
LAST-MODIFIED:20241107T013758Z
UID:12027-1731589200-1731592800@martinandassoc.com
SUMMARY:Optimize Your Fixed Assets Management with Acumatica
DESCRIPTION:Fixed assets are critical to your business. Buildings\, equipment\, intangible assets – they all represent a significant investment and require careful tracking and maintenance.  								\n				\n					\n		\n					\n		\n				\n						\n					\n			\n						\n				\n									The Acumatica Fixed Assets module is built to manage the lifecycle of your fixed assets\, from acquisition to disposal. You can: 								\n				\n					\n		\n					\n		\n				\n						\n					\n			\n						\n				\n									Create fixed assets from purchase\, imports\, or manual entries.Track asset location\, status\, and depreciation.Choose from various depreciation methods and schedules.Comply with tax and reporting requirements for different asset types.Transfer\, dispose of\, or retire your assets when needed.Configure classes\, types\, and hierarchies to organize assets. 								\n				\n					\n		\n					\n		\n				\n						\n					\n			\n						\n				\n									Acumatica Fixed Assets integrates seamlessly with other Acumatica modules\, such as General Ledger\, Accounts Payable\, Purchasing\, and Inventory Management\, giving you a comprehensive\, accurate view of your business. 								\n				\n					\n		\n					\n		\n				\n						\n					\n			\n						\n				\n									Looking to learn more about Acumatica Fixed Assets? Join us for a webinar on November 14th to see the module in action.
URL:https://martinandassoc.com/event/optimize-your-fixed-assets-management-with-acumatica/
CATEGORIES:Events,MWA Event
END:VEVENT
END:VCALENDAR