BEGIN:VCALENDAR
VERSION:2.0
PRODID:-//Martin and Associates - ECPv6.15.12.2//NONSGML v1.0//EN
CALSCALE:GREGORIAN
METHOD:PUBLISH
X-WR-CALNAME:Martin and Associates
X-ORIGINAL-URL:https://martinandassoc.com
X-WR-CALDESC:Events for Martin and Associates
REFRESH-INTERVAL;VALUE=DURATION:PT1H
X-Robots-Tag:noindex
X-PUBLISHED-TTL:PT1H
BEGIN:VTIMEZONE
TZID:America/Halifax
BEGIN:DAYLIGHT
TZOFFSETFROM:-0400
TZOFFSETTO:-0300
TZNAME:ADT
DTSTART:20230312T060000
END:DAYLIGHT
BEGIN:STANDARD
TZOFFSETFROM:-0300
TZOFFSETTO:-0400
TZNAME:AST
DTSTART:20231105T050000
END:STANDARD
BEGIN:DAYLIGHT
TZOFFSETFROM:-0400
TZOFFSETTO:-0300
TZNAME:ADT
DTSTART:20240310T060000
END:DAYLIGHT
BEGIN:STANDARD
TZOFFSETFROM:-0300
TZOFFSETTO:-0400
TZNAME:AST
DTSTART:20241103T050000
END:STANDARD
BEGIN:DAYLIGHT
TZOFFSETFROM:-0400
TZOFFSETTO:-0300
TZNAME:ADT
DTSTART:20250309T060000
END:DAYLIGHT
BEGIN:STANDARD
TZOFFSETFROM:-0300
TZOFFSETTO:-0400
TZNAME:AST
DTSTART:20251102T050000
END:STANDARD
END:VTIMEZONE
BEGIN:VEVENT
DTSTART;TZID=America/Halifax:20240829T130000
DTEND;TZID=America/Halifax:20240829T140000
DTSTAMP:20260421T043423
CREATED:20240830T002342Z
LAST-MODIFIED:20240830T002342Z
UID:12023-1724936400-1724940000@martinandassoc.com
SUMMARY:Boost Sales Performance with Acumatica CRM
DESCRIPTION:Join us Thursday\, August 29th at 1:00 PM ET to learn about Acumatica CRM and how it can boost sales performance\, improve your customer retention and increase your profitability.    Acumatica CRM can help you: Generate and nurture leadsManage customer data and interactionsImprove external communications and internal collaborationAttend the webinar to learn more about how Acumatica CRM can improve your sales and marketing activities. 								\n				\n				\n				\n							\n					\n						\n				\n				\n				\n									Acumatica CRM Datasheet
URL:https://martinandassoc.com/event/boost-sales-performance-with-acumatica-crm/
CATEGORIES:Events,MWA Event
END:VEVENT
END:VCALENDAR